BEGIN:VCALENDAR
VERSION:2.0
PRODID:-//Community Hospice - ECPv6.15.17.1//NONSGML v1.0//EN
CALSCALE:GREGORIAN
METHOD:PUBLISH
X-ORIGINAL-URL:https://www.communityhospice.com
X-WR-CALDESC:Events for Community Hospice
REFRESH-INTERVAL;VALUE=DURATION:PT1H
X-Robots-Tag:noindex
X-PUBLISHED-TTL:PT1H
BEGIN:VTIMEZONE
TZID:America/New_York
BEGIN:DAYLIGHT
TZOFFSETFROM:-0500
TZOFFSETTO:-0400
TZNAME:EDT
DTSTART:20240310T070000
END:DAYLIGHT
BEGIN:STANDARD
TZOFFSETFROM:-0400
TZOFFSETTO:-0500
TZNAME:EST
DTSTART:20241103T060000
END:STANDARD
BEGIN:DAYLIGHT
TZOFFSETFROM:-0500
TZOFFSETTO:-0400
TZNAME:EDT
DTSTART:20250309T070000
END:DAYLIGHT
BEGIN:STANDARD
TZOFFSETFROM:-0400
TZOFFSETTO:-0500
TZNAME:EST
DTSTART:20251102T060000
END:STANDARD
BEGIN:DAYLIGHT
TZOFFSETFROM:-0500
TZOFFSETTO:-0400
TZNAME:EDT
DTSTART:20260308T070000
END:DAYLIGHT
BEGIN:STANDARD
TZOFFSETFROM:-0400
TZOFFSETTO:-0500
TZNAME:EST
DTSTART:20261101T060000
END:STANDARD
END:VTIMEZONE
BEGIN:VEVENT
DTSTART;TZID=America/New_York:20251029T150000
DTEND;TZID=America/New_York:20251029T160000
DTSTAMP:20260425T170348
CREATED:20251024T145233Z
LAST-MODIFIED:20260108T211033Z
UID:5130-1761750000-1761753600@www.communityhospice.com
SUMMARY:Understanding Grief St. Johns County | Oct. 29\, 2025
DESCRIPTION:Understanding Grief St. Johns County | Oct. 29\, 2025\nStephen R. Chapman Family Community Campus – 1355 US Hwy 1 South\, St. Augustine\, FL 32084\n\nOct 29 @ 03:00 PM – 4:00 PM\n\n\nUnderstanding Grief: A Program for the Newly Bereaved\nUnderstanding Grief is designed to help people learn that healing is possible after the death of a loved one and there are effective ways to cope with grief and loss. \nThe 1-hour presentation will help attendees: \n\nIdentify normal responses to loss\nIdentify coping skills that may be helpful\nUnderstand the importance of self-care in the grieving process\n\nUnderstanding Grief is designed to be most helpful for those who have experienced a loss within the last 90 days\, and are at least 18 years old. Register today by calling 904.407.7001. \nAll Community Hospice & Palliative Care bereavement services are free of charge to hospice families for up to 13 months after a loved one’s death. Select services are also offered to the community free of charge. \nSPACE IS LIMITED\, SO PLEASE CALL (904) 407-7001 TO REGISTER.\nVisit our Grief & Loss Support page to find more helpful resources and information to help you and your family through grief and loss. \nThis is an in-person Session located at our Stephen R. Chapman Family Community Campus
URL:https://www.communityhospice.com/event/understanding-grief-st-johns-county-oct-29-2025/
LOCATION:Stephen R. Chapman Family Community Campus\, 1355 US Hwy 1 South\, St. Augustine\, 32084\, United States
CATEGORIES:CHPC Main Calendar
ATTACH;FMTTYPE=image/jpeg:https://www.communityhospice.com/wp-content/uploads/2025/10/Understanding-Grief-_St-Johns_10.29.25.jpg
END:VEVENT
END:VCALENDAR