BEGIN:VCALENDAR
VERSION:2.0
PRODID:-//Community Hospice - ECPv6.15.17.1//NONSGML v1.0//EN
CALSCALE:GREGORIAN
METHOD:PUBLISH
X-WR-CALNAME:Community Hospice
X-ORIGINAL-URL:https://www.communityhospice.com
X-WR-CALDESC:Events for Community Hospice
REFRESH-INTERVAL;VALUE=DURATION:PT1H
X-Robots-Tag:noindex
X-PUBLISHED-TTL:PT1H
BEGIN:VTIMEZONE
TZID:America/New_York
BEGIN:DAYLIGHT
TZOFFSETFROM:-0500
TZOFFSETTO:-0400
TZNAME:EDT
DTSTART:20230312T070000
END:DAYLIGHT
BEGIN:STANDARD
TZOFFSETFROM:-0400
TZOFFSETTO:-0500
TZNAME:EST
DTSTART:20231105T060000
END:STANDARD
BEGIN:DAYLIGHT
TZOFFSETFROM:-0500
TZOFFSETTO:-0400
TZNAME:EDT
DTSTART:20240310T070000
END:DAYLIGHT
BEGIN:STANDARD
TZOFFSETFROM:-0400
TZOFFSETTO:-0500
TZNAME:EST
DTSTART:20241103T060000
END:STANDARD
BEGIN:DAYLIGHT
TZOFFSETFROM:-0500
TZOFFSETTO:-0400
TZNAME:EDT
DTSTART:20250309T070000
END:DAYLIGHT
BEGIN:STANDARD
TZOFFSETFROM:-0400
TZOFFSETTO:-0500
TZNAME:EST
DTSTART:20251102T060000
END:STANDARD
END:VTIMEZONE
BEGIN:VEVENT
DTSTART;TZID=America/New_York:20241223T170000
DTEND;TZID=America/New_York:20241223T180000
DTSTAMP:20260420T005118
CREATED:20241218T184740Z
LAST-MODIFIED:20260108T211033Z
UID:3327-1734973200-1734976800@www.communityhospice.com
SUMMARY:Virtual Hope for the Holidays Session - December 2024
DESCRIPTION:A Community Hospice & Palliative Care Program for the Bereaved.\nVirtual Session\nMonday\, December 23\, 2024\n5 pm – 6 pm\nHope for the Holidays is open to the public and there is no charge to attend\, but attendees should RSVP by calling\n(904) 407-7001 or Toll Free at (800) 274-6614 Ext. 7001\n  \nThe festive holiday season can be challenging for those grieving the death of a loved one. They may find themselves torn between the need to grieve and pressure to get into the holiday spirit. \nCommunity Hospice & Palliative Care offers Hope for the Holidays. This workshop will help attendees learn ways to cope with grief during the holiday season\, determine what is right for them and their families and refocus energy on positive activities that honor and remember their loved ones. Attendees will leave with a renewed sense of hope for the upcoming season.
URL:https://www.communityhospice.com/event/virtual-hope-for-the-holidays-session-december-2024/
CATEGORIES:CHPC Main Calendar
ATTACH;FMTTYPE=image/jpeg:https://www.communityhospice.com/wp-content/uploads/2024/12/hope-for-the-holidays-social.jpg
END:VEVENT
BEGIN:VEVENT
DTSTART;TZID=America/New_York:20241220T120000
DTEND;TZID=America/New_York:20241220T130000
DTSTAMP:20260420T005118
CREATED:20241218T184457Z
LAST-MODIFIED:20260108T210953Z
UID:3323-1734696000-1734699600@www.communityhospice.com
SUMMARY:Hope for the Holidays Westside/Baker County - December 2024
DESCRIPTION:A Community Hospice & Palliative Care Program for the Bereaved.\nWestside/Baker County\nFriday\, December 20\, 2024\n12 – 1 Pm\nDr. Gaston J. Acosta-Rua Center For Caring\n5450 Ramona Boulevard\, Jacksonville\, FL 32205 \nHope for the Holidays is open to the public and there is no charge to attend\, but attendees should RSVP by calling\n(904) 407-7001 or Toll Free at (800) 274-6614 Ext. 7001\nThe festive holiday season can be challenging for those grieving the death of a loved one. They may find themselves torn between the need to grieve and pressure to get into the holiday spirit. \nCommunity Hospice & Palliative Care offers Hope for the Holidays. This workshop will help attendees learn ways to cope with grief during the holiday season\, determine what is right for them and their families and refocus energy on positive activities th
URL:https://www.communityhospice.com/event/hope-for-the-holidays-westside-baker-county-december-2024/
LOCATION:Dr. Gaston J. Acosta-Rua Center For Caring\, 5450 Ramona Boulevard\, Jacksonville\, 32205\, United States
CATEGORIES:CHPC Main Calendar
ATTACH;FMTTYPE=image/jpeg:https://www.communityhospice.com/wp-content/uploads/2024/12/hope-for-the-holidays-social.jpg
END:VEVENT
END:VCALENDAR