BEGIN:VCALENDAR
VERSION:2.0
PRODID:-//Community Hospice - ECPv6.15.17.1//NONSGML v1.0//EN
CALSCALE:GREGORIAN
METHOD:PUBLISH
X-ORIGINAL-URL:https://www.communityhospice.com
X-WR-CALDESC:Events for Community Hospice
REFRESH-INTERVAL;VALUE=DURATION:PT1H
X-Robots-Tag:noindex
X-PUBLISHED-TTL:PT1H
BEGIN:VTIMEZONE
TZID:America/New_York
BEGIN:DAYLIGHT
TZOFFSETFROM:-0500
TZOFFSETTO:-0400
TZNAME:EDT
DTSTART:20250309T070000
END:DAYLIGHT
BEGIN:STANDARD
TZOFFSETFROM:-0400
TZOFFSETTO:-0500
TZNAME:EST
DTSTART:20251102T060000
END:STANDARD
BEGIN:DAYLIGHT
TZOFFSETFROM:-0500
TZOFFSETTO:-0400
TZNAME:EDT
DTSTART:20260308T070000
END:DAYLIGHT
BEGIN:STANDARD
TZOFFSETFROM:-0400
TZOFFSETTO:-0500
TZNAME:EST
DTSTART:20261101T060000
END:STANDARD
BEGIN:DAYLIGHT
TZOFFSETFROM:-0500
TZOFFSETTO:-0400
TZNAME:EDT
DTSTART:20270314T070000
END:DAYLIGHT
BEGIN:STANDARD
TZOFFSETFROM:-0400
TZOFFSETTO:-0500
TZNAME:EST
DTSTART:20271107T060000
END:STANDARD
END:VTIMEZONE
BEGIN:VEVENT
DTSTART;TZID=America/New_York:20260304T113000
DTEND;TZID=America/New_York:20260304T130000
DTSTAMP:20260424T162821
CREATED:20260120T174540Z
LAST-MODIFIED:20260128T182530Z
UID:5967-1772623800-1772629200@www.communityhospice.com
SUMMARY:Community Connection Luncheon
DESCRIPTION:
URL:https://www.communityhospice.com/event/community-connection-luncheon/
CATEGORIES:Chapman Upcoming Events,CHPC Main Calendar
ATTACH;FMTTYPE=image/png:https://www.communityhospice.com/wp-content/uploads/2026/01/Screenshot-2026-01-20-at-12.43.48-PM.png
END:VEVENT
END:VCALENDAR