BEGIN:VCALENDAR
VERSION:2.0
PRODID:-//Community Hospice - ECPv6.15.17.1//NONSGML v1.0//EN
CALSCALE:GREGORIAN
METHOD:PUBLISH
X-ORIGINAL-URL:https://www.communityhospice.com
X-WR-CALDESC:Events for Community Hospice
REFRESH-INTERVAL;VALUE=DURATION:PT1H
X-Robots-Tag:noindex
X-PUBLISHED-TTL:PT1H
BEGIN:VTIMEZONE
TZID:America/New_York
BEGIN:DAYLIGHT
TZOFFSETFROM:-0500
TZOFFSETTO:-0400
TZNAME:EDT
DTSTART:20240310T070000
END:DAYLIGHT
BEGIN:STANDARD
TZOFFSETFROM:-0400
TZOFFSETTO:-0500
TZNAME:EST
DTSTART:20241103T060000
END:STANDARD
BEGIN:DAYLIGHT
TZOFFSETFROM:-0500
TZOFFSETTO:-0400
TZNAME:EDT
DTSTART:20250309T070000
END:DAYLIGHT
BEGIN:STANDARD
TZOFFSETFROM:-0400
TZOFFSETTO:-0500
TZNAME:EST
DTSTART:20251102T060000
END:STANDARD
BEGIN:DAYLIGHT
TZOFFSETFROM:-0500
TZOFFSETTO:-0400
TZNAME:EDT
DTSTART:20260308T070000
END:DAYLIGHT
BEGIN:STANDARD
TZOFFSETFROM:-0400
TZOFFSETTO:-0500
TZNAME:EST
DTSTART:20261101T060000
END:STANDARD
END:VTIMEZONE
BEGIN:VEVENT
DTSTART;TZID=America/New_York:20251204T160000
DTEND;TZID=America/New_York:20251204T180000
DTSTAMP:20260424T195530
CREATED:20251110T142247Z
LAST-MODIFIED:20260108T211033Z
UID:5462-1764864000-1764871200@www.communityhospice.com
SUMMARY:North Central Florida's Annual Tree of Life and Candlelight Service of Remembrance - Lake City
DESCRIPTION:We invite you to celebrate the memory of your loved one at Community Hospice & Palliative Care of North Central Florida’s 2025 Tree of Life ceremony. During this event you will have the opportunity to place your loved one’s ornament on our memory tree. The service includes reflections from our staff members as well as a ritual to honor all veterans. Please bring a photo of your loved one to display on the memory tables. We hope you will join us for this meaningful and reflective service. \n  \nRSVP northcentralevents@communityhospice.com
URL:https://www.communityhospice.com/event/north-central-floridas-annual-tree-of-life-and-candlelight-service-of-remembrance-lake-city/
LOCATION:Lifestyle Enrichment Center\, 628 SE Allison Court Lake City\, FL 32025\, Lake City\, FL\, United States
CATEGORIES:CHPC Main Calendar
ATTACH;FMTTYPE=image/jpeg:https://www.communityhospice.com/wp-content/uploads/2025/11/Screenshot-2025-11-10-at-9.15.14-AM-e1762784502986.jpg
END:VEVENT
BEGIN:VEVENT
DTSTART;TZID=America/New_York:20251204T180000
DTEND;TZID=America/New_York:20251204T200000
DTSTAMP:20260424T195530
CREATED:20251024T144252Z
LAST-MODIFIED:20260108T210953Z
UID:5127-1764871200-1764878400@www.communityhospice.com
SUMMARY:35th Annual Tree of Life and Candlelight Service of Remembrance
DESCRIPTION:35th Annual Tree of Life and Candlelight Service of Remembrance\nStephen R. Chapman Family Community Campus\, 1355 US Highway South St. Augustine\, FL 32084\n\nDec 04 @ 05:45 PM – 8:00 PM\n\n\n\n\nPrelude Performance: 5:45 – 6 p.m. | Service of Remembrance: 6 p.m.\nRSVP Here \nDue to construction at our Hadlow Campus in Jacksonville\, this will be our only in-person Tree of Life event this year. If you are unable to join us\, you can still be part of the experience by visiting TOL.CommunityHospice.com where you will find the link to watch the live stream.  \nClick here for more information \nParking Information\nOn-site parking will be available\, and off-site parking will be available with a shuttle service. \nPersonalized Ribbon Order\nThe 2025 Tree of Life will feature lights and ribbons in honor of those who have lost loved ones in our community. When you register for the event\, you will be prompted to personalize up to four (4) ribbons. We hope you will join us for this meaningful and reflective service. By paying tribute to the people who hold a special place in your life through the Tree of Life celebration\, you support our mission to provide compassionate\, comprehensive palliative and hospice care to patients and their families in the communities we serve. \n\n\n Our Tree of Life event is free and open to the public.
URL:https://www.communityhospice.com/event/5127/
LOCATION:Stephen R. Chapman Family Community Campus\, 1355 US Hwy 1 South\, St. Augustine\, 32084\, United States
CATEGORIES:CHPC Main Calendar
ATTACH;FMTTYPE=image/jpeg:https://www.communityhospice.com/wp-content/uploads/2025/10/Tree-of-Life_hero-image-opt-1-copy-scaled.jpg
END:VEVENT
BEGIN:VEVENT
DTSTART;TZID=America/New_York:20251205T150000
DTEND;TZID=America/New_York:20251205T160000
DTSTAMP:20260424T195530
CREATED:20251024T162102Z
LAST-MODIFIED:20260108T210953Z
UID:5157-1764946800-1764950400@www.communityhospice.com
SUMMARY:Hope for the Holidays | Mandarin/Southside
DESCRIPTION:A Community Hospice & Palliative Care Program for the Bereaved\nCharles M. Neviaser Educational Institute of Community Hospice\n4266 Sunbeam Road\, Building 100\nJacksonville\, FL 32257\nFriday\, Dec. 5\n3 to 4 p.m. \nHope for the Holidays is open to the public and there is no charge to attend\, but attendees should RSVP by calling\n(904) 407-7001 or Toll Free at (800) 274-6614 Ext. 7001\nThe festive holiday season can be challenging for those grieving the death of a loved one. They may find themselves torn between the need to grieve and the pressure to get into the holiday spirit. \nCommunity Hospice & Palliative Care offers Hope for the Holidays. This workshop will help attendees learn ways to cope with grief during the holiday season\, determine what is right for them and their families\, and refocus energy on positive activities that honor and remember their loved ones. Attendees will leave with renewed hope for the upcoming season.
URL:https://www.communityhospice.com/event/hope-for-the-holidays-mandarin-southside-2/
LOCATION:Charles M. Neviaser Educational Institute\, 4266 Sunbeam Road\, Building 100\, Jacksonville\, FL\, 32257\, United States
CATEGORIES:CHPC Main Calendar
ATTACH;FMTTYPE=image/jpeg:https://www.communityhospice.com/wp-content/uploads/2024/08/community-hospice-and-palliative-care-grief-and-loss-support-holiday-grief-support.jpg
END:VEVENT
BEGIN:VEVENT
DTSTART;TZID=America/New_York:20251206T130000
DTEND;TZID=America/New_York:20251206T140000
DTSTAMP:20260424T195530
CREATED:20251024T160322Z
LAST-MODIFIED:20260108T210953Z
UID:5145-1765026000-1765029600@www.communityhospice.com
SUMMARY:Hope for the Holidays | Arlington/Beaches
DESCRIPTION:A Community Hospice & Palliative Care Program for the Bereaved\nAnne and Donald McGraw Center for Caring\n4715 Worrall Way\nJacksonville\, FL 32224\nSaturday\, Dec. 6\n1 to 2 p.m. \nHope for the Holidays is open to the public and there is no charge to attend\, but attendees should RSVP by calling\n(904) 407-7001 or Toll Free at (800) 274-6614 Ext. 7001\nThe festive holiday season can be challenging for those grieving the death of a loved one. They may find themselves torn between the need to grieve and the pressure to get into the holiday spirit. \nCommunity Hospice & Palliative Care offers Hope for the Holidays. This workshop will help attendees learn ways to cope with grief during the holiday season\, determine what is right for them and their families\, and refocus energy on positive activities that honor and remember their loved ones. Attendees will leave with renewed hope for the upcoming season.
URL:https://www.communityhospice.com/event/hope-for-the-holidays-arlington-beaches-2/
LOCATION:Anne and Donald McGraw Center for Caring\, 4715 Worrall Way\, Jacksonville\, 32224\, United States
CATEGORIES:CHPC Main Calendar
ATTACH;FMTTYPE=image/jpeg:https://www.communityhospice.com/wp-content/uploads/2024/08/community-hospice-and-palliative-care-grief-and-loss-support-holiday-grief-support.jpg
END:VEVENT
BEGIN:VEVENT
DTSTART;TZID=America/New_York:20251209T110000
DTEND;TZID=America/New_York:20251209T120000
DTSTAMP:20260424T195530
CREATED:20251024T155215Z
LAST-MODIFIED:20260108T210953Z
UID:5140-1765278000-1765281600@www.communityhospice.com
SUMMARY:Hope for the Holidays | Alachua County
DESCRIPTION:A Community Hospice & Palliative Care Program for the Bereaved\nCommunity Hospice & Palliative Care of Alachua County\n3870 NW 83rd Street\nGainesville\, FL 32606\nTuesday\, Dec. 9\n11 a.m. to 12 p.m. \nHope for the Holidays is open to the public and there is no charge to attend\, but attendees should RSVP by calling\n(904) 407-7001 or Toll Free at (800) 274-6614 Ext. 7001\nThe festive holiday season can be challenging for those grieving the death of a loved one. They may find themselves torn between the need to grieve and the pressure to get into the holiday spirit. \nCommunity Hospice & Palliative Care offers Hope for the Holidays. This workshop will help attendees learn ways to cope with grief during the holiday season\, determine what is right for them and their families\, and refocus energy on positive activities that honor and remember their loved ones. Attendees will leave with renewed hope for the upcoming season.
URL:https://www.communityhospice.com/event/hope-for-the-holidays-alachua-county-2/
LOCATION:Community Hospice & Palliative Care of Alachua County\, 3870 NW 83rd Street\, Gainesville\, FL\, 32606\, United States
CATEGORIES:CHPC Main Calendar
ATTACH;FMTTYPE=image/jpeg:https://www.communityhospice.com/wp-content/uploads/2024/08/community-hospice-and-palliative-care-grief-and-loss-support-holiday-grief-support.jpg
END:VEVENT
BEGIN:VEVENT
DTSTART;TZID=America/New_York:20251209T160000
DTEND;TZID=America/New_York:20251209T180000
DTSTAMP:20260424T195530
CREATED:20251110T142836Z
LAST-MODIFIED:20260108T211033Z
UID:5469-1765296000-1765303200@www.communityhospice.com
SUMMARY:North Central Florida's Annual Tree of Life and Candlelight Service of Remembrance - Palatka
DESCRIPTION:We invite you to celebrate the memory of your loved one at Community Hospice & Palliative Care of North Central Florida’s 2025 Tree of Life ceremony. During this event you will have the opportunity to place your loved one’s ornament on our memory tree. The service includes reflections from our staff members as well as a ritual to honor all veterans. Please bring a photo of your loved one to display on the memory tables. We hope you will join us for this meaningful and reflective service. \n  \nRSVP northcentralevents@communityhospice.com
URL:https://www.communityhospice.com/event/north-central-floridas-annual-tree-of-life-and-candlelight-service-of-remembrance-palatka/
LOCATION:St. Johns River State College\, 5001 St. Johns Ave Palatka\, FL 32177\, Palatka\, United States
CATEGORIES:CHPC Main Calendar
ATTACH;FMTTYPE=image/jpeg:https://www.communityhospice.com/wp-content/uploads/2025/11/Screenshot-2025-11-10-at-9.15.14-AM-e1762784502986.jpg
END:VEVENT
BEGIN:VEVENT
DTSTART;TZID=America/New_York:20251211T100000
DTEND;TZID=America/New_York:20251211T120000
DTSTAMP:20260424T195530
CREATED:20251110T143128Z
LAST-MODIFIED:20260108T211033Z
UID:5472-1765447200-1765454400@www.communityhospice.com
SUMMARY:North Central Florida's Annual Tree of Life and Candlelight Service of Remembrance - Advent Christian Village
DESCRIPTION:We invite you to celebrate the memory of your loved one at Community Hospice & Palliative Care of North Central Florida’s 2025 Tree of Life ceremony. During this event you will have the opportunity to place your loved one’s ornament on our memory tree. The service includes reflections from our staff members as well as a ritual to honor all veterans. Please bring a photo of your loved one to display on the memory tables. We hope you will join us for this meaningful and reflective service. \n  \nRSVP northcentralevents@communityhospice.com
URL:https://www.communityhospice.com/event/north-central-floridas-annual-tree-of-life-and-candlelight-service-of-remembrance-advent-christian-village/
LOCATION:Advent Christian Village\, Advent Christian Village 10680 Dowling Park Dr. Live Oak\, FL 32060\, Live Oak\, FL\, United States
CATEGORIES:CHPC Main Calendar
ATTACH;FMTTYPE=image/jpeg:https://www.communityhospice.com/wp-content/uploads/2025/11/Screenshot-2025-11-10-at-9.15.14-AM-e1762784502986.jpg
END:VEVENT
BEGIN:VEVENT
DTSTART;TZID=America/New_York:20251211T120000
DTEND;TZID=America/New_York:20251211T130000
DTSTAMP:20260424T195530
CREATED:20251024T161005Z
LAST-MODIFIED:20260108T210953Z
UID:5152-1765454400-1765458000@www.communityhospice.com
SUMMARY:Hope for the Holidays | Clay County
DESCRIPTION:A Community Hospice & Palliative Care Program for the Bereaved\nCommunity Hospice & Palliative Care of Clay County\n4689 US Hwy 17\, Suite 9\nFleming Island\, FL 32003\nThursday\, Dec. 11\n12 to 1 p.m. \nHope for the Holidays is open to the public and there is no charge to attend\, but attendees should RSVP by calling\n(904) 407-7001 or Toll Free at (800) 274-6614 Ext. 7001\nThe festive holiday season can be challenging for those grieving the death of a loved one. They may find themselves torn between the need to grieve and the pressure to get into the holiday spirit. \nCommunity Hospice & Palliative Care offers Hope for the Holidays. This workshop will help attendees learn ways to cope with grief during the holiday season\, determine what is right for them and their families\, and refocus energy on positive activities that honor and remember their loved ones. Attendees will leave with renewed hope for the upcoming season.
URL:https://www.communityhospice.com/event/hope-for-the-holidays-clay-county-2/
LOCATION:Community Hospice & Palliative Care of Clay County\, 4689 US Hwy 17\, Suite 9\, Fleming Island\, 32003\, United States
CATEGORIES:CHPC Main Calendar
ATTACH;FMTTYPE=image/jpeg:https://www.communityhospice.com/wp-content/uploads/2024/08/community-hospice-and-palliative-care-grief-and-loss-support-holiday-grief-support.jpg
END:VEVENT
BEGIN:VEVENT
DTSTART;TZID=America/New_York:20251211T160000
DTEND;TZID=America/New_York:20251211T180000
DTSTAMP:20260424T195530
CREATED:20251110T143515Z
LAST-MODIFIED:20260108T211033Z
UID:5477-1765468800-1765476000@www.communityhospice.com
SUMMARY:North Central Florida's Annual Tree of Life and Candlelight Service of Remembrance - Gainesville
DESCRIPTION:We invite you to celebrate the memory of your loved one at Community Hospice & Palliative Care of North Central Florida’s 2025 Tree of Life ceremony. During this event you will have the opportunity to place your loved one’s ornament on our memory tree. The service includes reflections from our staff members as well as a ritual to honor all veterans. Please bring a photo of your loved one to display on the memory tables. We hope you will join us for this meaningful and reflective service. \n  \nRSVP northcentralevents@communityhospice.com
URL:https://www.communityhospice.com/event/north-central-floridas-annual-tree-of-life-and-candlelight-service-of-remembrance-gainesville/
LOCATION:Williams Temple Fellowship Hall\, 618 NW 6th St. Gainesville\, FL 32601\, Gainesville\, United States
CATEGORIES:CHPC Main Calendar
ATTACH;FMTTYPE=image/jpeg:https://www.communityhospice.com/wp-content/uploads/2025/11/Screenshot-2025-11-10-at-9.15.14-AM-e1762784502986.jpg
END:VEVENT
BEGIN:VEVENT
DTSTART;TZID=America/New_York:20251217T170000
DTEND;TZID=America/New_York:20251217T180000
DTSTAMP:20260424T195530
CREATED:20251024T165100Z
LAST-MODIFIED:20260108T210953Z
UID:5170-1765990800-1765994400@www.communityhospice.com
SUMMARY:Hope for the Holidays | St. Johns County
DESCRIPTION:A Community Hospice & Palliative Care Program for the Bereaved\nStephen R. Chapman Family Community Campus\n1355 US Highway 1 South\nSt. Augustine\, FL 32084\nWednesday\, Dec. 17\n5 to 6 p.m. \nHope for the Holidays is open to the public and there is no charge to attend\, but attendees should RSVP by calling\n(904) 407-7001 or Toll Free at (800) 274-6614 Ext. 7001\nThe festive holiday season can be challenging for those grieving the death of a loved one. They may find themselves torn between the need to grieve and the pressure to get into the holiday spirit. \nCommunity Hospice & Palliative Care offers Hope for the Holidays. This workshop will help attendees learn ways to cope with grief during the holiday season\, determine what is right for them and their families\, and refocus energy on positive activities that honor and remember their loved ones. Attendees will leave with renewed hope for the upcoming season.
URL:https://www.communityhospice.com/event/hope-for-the-holidays-st-johns-county-2/
LOCATION:Stephen R. Chapman Family Community Campus\, 1355 US Hwy 1 South\, St. Augustine\, 32084\, United States
CATEGORIES:CHPC Main Calendar
ATTACH;FMTTYPE=image/jpeg:https://www.communityhospice.com/wp-content/uploads/2024/08/community-hospice-and-palliative-care-grief-and-loss-support-holiday-grief-support.jpg
END:VEVENT
BEGIN:VEVENT
DTSTART;TZID=America/New_York:20251218T150000
DTEND;TZID=America/New_York:20251218T160000
DTSTAMP:20260424T195530
CREATED:20251024T160441Z
LAST-MODIFIED:20260108T210953Z
UID:5147-1766070000-1766073600@www.communityhospice.com
SUMMARY:Hope for the Holidays | Arlington/Beaches
DESCRIPTION:A Community Hospice & Palliative Care Program for the Bereaved\nAnne and Donald McGraw Center for Caring\n4715 Worrall Way\nJacksonville\, FL 32224\nThursday\, Dec. 18\n3 to 4 p.m. \nHope for the Holidays is open to the public and there is no charge to attend\, but attendees should RSVP by calling\n(904) 407-7001 or Toll Free at (800) 274-6614 Ext. 7001\nThe festive holiday season can be challenging for those grieving the death of a loved one. They may find themselves torn between the need to grieve and the pressure to get into the holiday spirit. \nCommunity Hospice & Palliative Care offers Hope for the Holidays. This workshop will help attendees learn ways to cope with grief during the holiday season\, determine what is right for them and their families\, and refocus energy on positive activities that honor and remember their loved ones. Attendees will leave with renewed hope for the upcoming season.
URL:https://www.communityhospice.com/event/hope-for-the-holidays-arlington-beaches-3/
LOCATION:Anne and Donald McGraw Center for Caring\, 4715 Worrall Way\, Jacksonville\, 32224\, United States
CATEGORIES:CHPC Main Calendar
ATTACH;FMTTYPE=image/jpeg:https://www.communityhospice.com/wp-content/uploads/2024/08/community-hospice-and-palliative-care-grief-and-loss-support-holiday-grief-support.jpg
END:VEVENT
BEGIN:VEVENT
DTSTART;TZID=America/New_York:20251219T120000
DTEND;TZID=America/New_York:20251219T130000
DTSTAMP:20260424T195530
CREATED:20251024T165810Z
LAST-MODIFIED:20260108T210953Z
UID:5174-1766145600-1766149200@www.communityhospice.com
SUMMARY:Hope for the Holidays | Westside/Baker County
DESCRIPTION:A Community Hospice & Palliative Care Program for the Bereaved\nDr. Gaston J. Acosta-Rua Center for Caring\n5450 Ramona Boulevard\nJacksonville\, FL 32205\nFriday\, Dec. 19\n12 to 1 p.m. \nHope for the Holidays is open to the public and there is no charge to attend\, but attendees should RSVP by calling\n(904) 407-7001 or Toll Free at (800) 274-6614 Ext. 7001\nThe festive holiday season can be challenging for those grieving the death of a loved one. They may find themselves torn between the need to grieve and the pressure to get into the holiday spirit. \nCommunity Hospice & Palliative Care offers Hope for the Holidays. This workshop will help attendees learn ways to cope with grief during the holiday season\, determine what is right for them and their families\, and refocus energy on positive activities that honor and remember their loved ones. Attendees will leave with renewed hope for the upcoming season.
URL:https://www.communityhospice.com/event/hope-for-the-holidays-westside-baker-county-2/
LOCATION:Dr. Gaston J. Acosta-Rua Center For Caring\, 5450 Ramona Boulevard\, Jacksonville\, 32205\, United States
CATEGORIES:CHPC Main Calendar
ATTACH;FMTTYPE=image/jpeg:https://www.communityhospice.com/wp-content/uploads/2024/08/community-hospice-and-palliative-care-grief-and-loss-support-holiday-grief-support.jpg
END:VEVENT
BEGIN:VEVENT
DTSTART;TZID=America/New_York:20251222T170000
DTEND;TZID=America/New_York:20251222T180000
DTSTAMP:20260424T195530
CREATED:20251024T170125Z
LAST-MODIFIED:20260108T210953Z
UID:5176-1766422800-1766426400@www.communityhospice.com
SUMMARY:Hope for the Holidays | Virtual
DESCRIPTION:A Community Hospice & Palliative Care Program for the Bereaved\nVirtual Session\nMonday\, Dec. 22\n5 to 6 p.m. \nHope for the Holidays is open to the public and there is no charge to attend\, but attendees should RSVP by calling\n(904) 407-7001 or Toll Free at (800) 274-6614 Ext. 7001\nThe festive holiday season can be challenging for those grieving the death of a loved one. They may find themselves torn between the need to grieve and the pressure to get into the holiday spirit. \nCommunity Hospice & Palliative Care offers Hope for the Holidays. This workshop will help attendees learn ways to cope with grief during the holiday season\, determine what is right for them and their families\, and refocus energy on positive activities that honor and remember their loved ones. Attendees will leave with renewed hope for the upcoming season.
URL:https://www.communityhospice.com/event/hope-for-the-holidays-virtual/
CATEGORIES:CHPC Main Calendar
ATTACH;FMTTYPE=image/jpeg:https://www.communityhospice.com/wp-content/uploads/2024/12/hope-for-the-holidays-social.jpg
END:VEVENT
END:VCALENDAR