BEGIN:VCALENDAR
VERSION:2.0
PRODID:-//Community Hospice - ECPv6.15.17.1//NONSGML v1.0//EN
CALSCALE:GREGORIAN
METHOD:PUBLISH
X-ORIGINAL-URL:https://www.communityhospice.com
X-WR-CALDESC:Events for Community Hospice
REFRESH-INTERVAL;VALUE=DURATION:PT1H
X-Robots-Tag:noindex
X-PUBLISHED-TTL:PT1H
BEGIN:VTIMEZONE
TZID:America/New_York
BEGIN:DAYLIGHT
TZOFFSETFROM:-0500
TZOFFSETTO:-0400
TZNAME:EDT
DTSTART:20250309T070000
END:DAYLIGHT
BEGIN:STANDARD
TZOFFSETFROM:-0400
TZOFFSETTO:-0500
TZNAME:EST
DTSTART:20251102T060000
END:STANDARD
BEGIN:DAYLIGHT
TZOFFSETFROM:-0500
TZOFFSETTO:-0400
TZNAME:EDT
DTSTART:20260308T070000
END:DAYLIGHT
BEGIN:STANDARD
TZOFFSETFROM:-0400
TZOFFSETTO:-0500
TZNAME:EST
DTSTART:20261101T060000
END:STANDARD
BEGIN:DAYLIGHT
TZOFFSETFROM:-0500
TZOFFSETTO:-0400
TZNAME:EDT
DTSTART:20270314T070000
END:DAYLIGHT
BEGIN:STANDARD
TZOFFSETFROM:-0400
TZOFFSETTO:-0500
TZNAME:EST
DTSTART:20271107T060000
END:STANDARD
END:VTIMEZONE
BEGIN:VEVENT
DTSTART;TZID=America/New_York:20260505T140000
DTEND;TZID=America/New_York:20260505T160000
DTSTAMP:20260424T163622
CREATED:20260212T195621Z
LAST-MODIFIED:20260310T194208Z
UID:6099-1777989600-1777996800@www.communityhospice.com
SUMMARY:Memory Café
DESCRIPTION:
URL:https://www.communityhospice.com/event/memory-care-cafe-3/
CATEGORIES:Chapman Upcoming Events,CHPC Main Calendar
ATTACH;FMTTYPE=image/png:https://www.communityhospice.com/wp-content/uploads/2026/01/Screenshot-2026-01-28-at-1.42.55-PM-scaled.png
END:VEVENT
BEGIN:VEVENT
DTSTART;TZID=America/New_York:20260513T110000
DTEND;TZID=America/New_York:20260513T110000
DTSTAMP:20260424T163622
CREATED:20260212T201548Z
LAST-MODIFIED:20260318T163442Z
UID:6106-1778670000-1778670000@www.communityhospice.com
SUMMARY:Caregiver Workshop Series: Caring for yourself while caring for a loved one - Session Two: Caregiver Wellbeing & Support
DESCRIPTION:
URL:https://www.communityhospice.com/event/caregiver-workshop-series-caring-for-yourself-while-caring-for-a-loved-one-session-two-caregiver-wellbeing-support/
LOCATION:Stephen R. Chapman Family Community Campus\, 1355 US Hwy 1 South\, St. Augustine\, 32084\, United States
CATEGORIES:Chapman Upcoming Events,CHPC Main Calendar
ATTACH;FMTTYPE=image/png:https://www.communityhospice.com/wp-content/uploads/2026/02/Screenshot-2026-03-18-at-12.31.00-PM.png
END:VEVENT
BEGIN:VEVENT
DTSTART;TZID=America/New_York:20260515T110000
DTEND;TZID=America/New_York:20260515T110000
DTSTAMP:20260424T163622
CREATED:20260212T201704Z
LAST-MODIFIED:20260318T163231Z
UID:6108-1778842800-1778842800@www.communityhospice.com
SUMMARY:Caregiver Workshop Series: Caring for yourself while caring for a loved one - Session Three: Understanding Today's Caregiver Landscape
DESCRIPTION:
URL:https://www.communityhospice.com/event/caregiver-workshop-series-caring-for-yourself-while-caring-for-a-loved-one-session-three-understanding-todays-caregiver-landscape/
LOCATION:Stephen R. Chapman Family Community Campus\, 1355 US Hwy 1 South\, St. Augustine\, 32084\, United States
CATEGORIES:Chapman Upcoming Events,CHPC Main Calendar
ATTACH;FMTTYPE=image/png:https://www.communityhospice.com/wp-content/uploads/2026/02/Screenshot-2026-03-18-at-12.31.00-PM.png
END:VEVENT
BEGIN:VEVENT
DTSTART;TZID=America/New_York:20260519T170000
DTEND;TZID=America/New_York:20260519T193000
DTSTAMP:20260424T163622
CREATED:20260406T022352Z
LAST-MODIFIED:20260406T022352Z
UID:6318-1779210000-1779219000@www.communityhospice.com
SUMMARY:Evening to Remember
DESCRIPTION:
URL:https://www.communityhospice.com/event/evening-to-remember/
CATEGORIES:Chapman Upcoming Events
ATTACH;FMTTYPE=image/png:https://www.communityhospice.com/wp-content/uploads/2026/04/Screenshot-2026-04-05-at-10.21.28-PM.png
END:VEVENT
END:VCALENDAR