BEGIN:VCALENDAR
VERSION:2.0
PRODID:-//Community Hospice - ECPv6.15.17.1//NONSGML v1.0//EN
CALSCALE:GREGORIAN
METHOD:PUBLISH
X-WR-CALNAME:Community Hospice
X-ORIGINAL-URL:https://www.communityhospice.com
X-WR-CALDESC:Events for Community Hospice
REFRESH-INTERVAL;VALUE=DURATION:PT1H
X-Robots-Tag:noindex
X-PUBLISHED-TTL:PT1H
BEGIN:VTIMEZONE
TZID:America/New_York
BEGIN:DAYLIGHT
TZOFFSETFROM:-0500
TZOFFSETTO:-0400
TZNAME:EDT
DTSTART:20250309T070000
END:DAYLIGHT
BEGIN:STANDARD
TZOFFSETFROM:-0400
TZOFFSETTO:-0500
TZNAME:EST
DTSTART:20251102T060000
END:STANDARD
BEGIN:DAYLIGHT
TZOFFSETFROM:-0500
TZOFFSETTO:-0400
TZNAME:EDT
DTSTART:20260308T070000
END:DAYLIGHT
BEGIN:STANDARD
TZOFFSETFROM:-0400
TZOFFSETTO:-0500
TZNAME:EST
DTSTART:20261101T060000
END:STANDARD
BEGIN:DAYLIGHT
TZOFFSETFROM:-0500
TZOFFSETTO:-0400
TZNAME:EDT
DTSTART:20270314T070000
END:DAYLIGHT
BEGIN:STANDARD
TZOFFSETFROM:-0400
TZOFFSETTO:-0500
TZNAME:EST
DTSTART:20271107T060000
END:STANDARD
END:VTIMEZONE
BEGIN:VEVENT
DTSTART;TZID=America/New_York:20260513T110000
DTEND;TZID=America/New_York:20260513T110000
DTSTAMP:20260420T122022
CREATED:20260212T201548Z
LAST-MODIFIED:20260318T163442Z
UID:6106-1778670000-1778670000@www.communityhospice.com
SUMMARY:Caregiver Workshop Series: Caring for yourself while caring for a loved one - Session Two: Caregiver Wellbeing & Support
DESCRIPTION:
URL:https://www.communityhospice.com/event/caregiver-workshop-series-caring-for-yourself-while-caring-for-a-loved-one-session-two-caregiver-wellbeing-support/
LOCATION:Stephen R. Chapman Family Community Campus\, 1355 US Hwy 1 South\, St. Augustine\, 32084\, United States
CATEGORIES:Chapman Upcoming Events,CHPC Main Calendar
ATTACH;FMTTYPE=image/png:https://www.communityhospice.com/wp-content/uploads/2026/02/Screenshot-2026-03-18-at-12.31.00-PM.png
END:VEVENT
END:VCALENDAR