BEGIN:VCALENDAR
VERSION:2.0
PRODID:-//Community Hospice - ECPv6.15.17.1//NONSGML v1.0//EN
CALSCALE:GREGORIAN
METHOD:PUBLISH
X-ORIGINAL-URL:https://www.communityhospice.com
X-WR-CALDESC:Events for Community Hospice
REFRESH-INTERVAL;VALUE=DURATION:PT1H
X-Robots-Tag:noindex
X-PUBLISHED-TTL:PT1H
BEGIN:VTIMEZONE
TZID:America/New_York
BEGIN:DAYLIGHT
TZOFFSETFROM:-0500
TZOFFSETTO:-0400
TZNAME:EDT
DTSTART:20240310T070000
END:DAYLIGHT
BEGIN:STANDARD
TZOFFSETFROM:-0400
TZOFFSETTO:-0500
TZNAME:EST
DTSTART:20241103T060000
END:STANDARD
BEGIN:DAYLIGHT
TZOFFSETFROM:-0500
TZOFFSETTO:-0400
TZNAME:EDT
DTSTART:20250309T070000
END:DAYLIGHT
BEGIN:STANDARD
TZOFFSETFROM:-0400
TZOFFSETTO:-0500
TZNAME:EST
DTSTART:20251102T060000
END:STANDARD
BEGIN:DAYLIGHT
TZOFFSETFROM:-0500
TZOFFSETTO:-0400
TZNAME:EDT
DTSTART:20260308T070000
END:DAYLIGHT
BEGIN:STANDARD
TZOFFSETFROM:-0400
TZOFFSETTO:-0500
TZNAME:EST
DTSTART:20261101T060000
END:STANDARD
END:VTIMEZONE
BEGIN:VEVENT
DTSTART;TZID=America/New_York:20251116T163000
DTEND;TZID=America/New_York:20251116T200000
DTSTAMP:20260425T170610
CREATED:20251024T142038Z
LAST-MODIFIED:20260108T210953Z
UID:5123-1763310600-1763323200@www.communityhospice.com
SUMMARY:2nd Annual ROARS and More
DESCRIPTION:2nd Annual ROARS and More\nJacksonville Zoo and Botanical Gardens\, 370 Zoo Parkway\, Jacksonville\, FL 32218\nSunday\, Nov. 16\, from  4:30 to 8 p.m.\n\nJoin us as we continue our mission to make a meaningful impact in the lives of nearly 3\,000 families through Community PedsCare.\nClick here to learn more
URL:https://www.communityhospice.com/event/2nd-annual-roars-and-more/
LOCATION:Jacksonville Zoo and Botanical Gardens\, 370 Zoo Parkway\, Jacksonville\, 32218\, United States
CATEGORIES:CHPC Main Calendar
ATTACH;FMTTYPE=image/jpeg:https://www.communityhospice.com/wp-content/uploads/2025/10/RAM-STD.jpg
END:VEVENT
END:VCALENDAR