BEGIN:VCALENDAR
VERSION:2.0
PRODID:-//Community Hospice - ECPv6.15.17.1//NONSGML v1.0//EN
CALSCALE:GREGORIAN
METHOD:PUBLISH
X-ORIGINAL-URL:https://www.communityhospice.com
X-WR-CALDESC:Events for Community Hospice
REFRESH-INTERVAL;VALUE=DURATION:PT1H
X-Robots-Tag:noindex
X-PUBLISHED-TTL:PT1H
BEGIN:VTIMEZONE
TZID:America/New_York
BEGIN:DAYLIGHT
TZOFFSETFROM:-0500
TZOFFSETTO:-0400
TZNAME:EDT
DTSTART:20240310T070000
END:DAYLIGHT
BEGIN:STANDARD
TZOFFSETFROM:-0400
TZOFFSETTO:-0500
TZNAME:EST
DTSTART:20241103T060000
END:STANDARD
BEGIN:DAYLIGHT
TZOFFSETFROM:-0500
TZOFFSETTO:-0400
TZNAME:EDT
DTSTART:20250309T070000
END:DAYLIGHT
BEGIN:STANDARD
TZOFFSETFROM:-0400
TZOFFSETTO:-0500
TZNAME:EST
DTSTART:20251102T060000
END:STANDARD
BEGIN:DAYLIGHT
TZOFFSETFROM:-0500
TZOFFSETTO:-0400
TZNAME:EDT
DTSTART:20260308T070000
END:DAYLIGHT
BEGIN:STANDARD
TZOFFSETFROM:-0400
TZOFFSETTO:-0500
TZNAME:EST
DTSTART:20261101T060000
END:STANDARD
END:VTIMEZONE
BEGIN:VEVENT
DTSTART;TZID=America/New_York:20251109T130000
DTEND;TZID=America/New_York:20251109T160000
DTSTAMP:20260425T170311
CREATED:20251024T135259Z
LAST-MODIFIED:20260108T210953Z
UID:5116-1762693200-1762704000@www.communityhospice.com
SUMMARY:2nd Annual Vets\, Pets & Music Fest
DESCRIPTION:2nd Annual Vets\, Pets & Music Fest\nGreen Turtle Tavern\, 14 S 3rd Street\, Fernandina Beach\, FL 32034\nSunday\, Nov 09 \n1 to 4 p.m.\nJoin us for the second annual Vets\, Pets & Music Fest on November 9\, 2025\, at the Green Turtle Tavern in Fernandina Beach from 1 to 4 p.m.\nThis one-of-a-kind fundraising event brings awareness to and supports our veteran\, Pet Peace of Mind and music therapy programs. \nCommunity Hospice & Palliative Care is an innovative national leader in palliative and hospice care. But did you know that many of the programs and services available to our patients and families are often unfunded or underfunded by insurance? Just a few of these impactful “extras” include: \n\nHonoring Veterans: Through specialized pinning ceremonies and the display of service branch flags outside their rooms in our inpatient centers\, we pay tribute to veterans and their families.\n\n\nPet Peace of Mind Program: This program provides a structured support system that helps our patients keep their beloved pets with them as long as possible. It also assists with boarding and adoption costs when necessary\, after a patient passes.\n\n\nProfessional Music Therapy: Our two full-time music therapists offer personalized musical sessions\, bringing comfort and joy to patients and families during difficult times.\n\nThe Vets\, Pets & Music Fest will support these three very meaningful programs. \nWith your help\, Community Hospice & Palliative Care can continue to provide our patients with compassionate care (and the “extras”) that will enhance their quality of life and time with family. \nClick here to learn more
URL:https://www.communityhospice.com/event/5116/
LOCATION:Green Turtle Tavern\, 14 S 3rd Street\, Fernandina Beach\, FL\, 32034\, United States
CATEGORIES:CHPC Main Calendar
ATTACH;FMTTYPE=image/jpeg:https://www.communityhospice.com/wp-content/uploads/2025/10/Vets-Pets-GFX.jpg
END:VEVENT
END:VCALENDAR